View In:
ArcGIS JavaScript
ArcGIS Online Map Viewer
ArcGIS Earth
Service Description: USGS 30 meter DEM for Western US and BC Canada, collected for USDA-NRCS National Water and Climate Center by Geography, Portland State University
Name: BAGIS_GISLayers/DEM_westus_bc_30m
Description: USGS 30 meter DEM for Western US and BC Canada, collected for USDA-NRCS National Water and Climate Center by Geography, Portland State University
Single Fused Map Cache: false
Extent:
XMin: -3327701.4387831
YMin: 880446.6644228576
XMax: 13.865158890374005
YMax: 4728688.419409698
Spatial Reference: 0
(0)
LatestVCSWkid(0)
Initial Extent:
XMin: -3327701.4387831
YMin: 880446.6644228576
XMax: 13.865158890374005
YMax: 4728688.419409698
Spatial Reference: 0
(0)
LatestVCSWkid(0)
Full Extent:
XMin: -3327701.4387831
YMin: 880446.6644228576
XMax: 13.865158890374005
YMax: 4728688.419409698
Spatial Reference: 0
(0)
LatestVCSWkid(0)
Pixel Size X: 22.14534997
Pixel Size Y: 22.14534997
Band Count: 1
Pixel Type: F32
RasterFunction Infos: {"rasterFunctionInfos": [{
"name": "None",
"description": "",
"help": ""
}]}
Mensuration Capabilities: Basic
Inspection Capabilities:
Has Histograms: false
Has Colormap: false
Has Multi Dimensions : false
Rendering Rule:
Min Scale: 0
Max Scale: 0
Copyright Text: Geography, Portland State University
Service Data Type: esriImageServiceDataTypeGeneric
Min Values: -85.61865234375
Max Values: 6421
Mean Values: 1049.3403475531452
Standard Deviation Values: 706.9744993396625
Object ID Field:
Fields:
None
Default Mosaic Method: Center
Allowed Mosaic Methods:
SortField:
SortValue: null
Mosaic Operator: First
Default Compression Quality: 75
Default Resampling Method: Nearest
Max Record Count: null
Max Image Height: 41000
Max Image Width: 38000
Max Download Image Count: null
Max Mosaic Image Count: null
Allow Raster Function: true
Allow Copy: true
Allow Analysis: true
Allow Compute TiePoints: false
Supports Statistics: false
Supports Advanced Queries: false
Use StandardizedQueries: true
Raster Type Infos:
Name: Raster Dataset
Description: Supports all ArcGIS Raster Datasets
Help:
Has Raster Attribute Table: false
Edit Fields Info: null
Ownership Based AccessControl For Rasters: null
Child Resources:
Info
Statistics
Key Properties
Legend
Raster Function Infos
Supported Operations:
Export Image
Identify
Measure
Compute Histograms
Compute Statistics Histograms
Get Samples
Compute Class Statistics
Query Boundary
Compute Pixel Location
Compute Angles
Validate
Project