{
 "currentVersion": 11.4,
 "serviceDescription": "USGS 30 meter DEM for Western US and BC Canada, collected for USDA-NRCS National Water and Climate Center by Geography, Portland State University",
 "name": "BAGIS_GISLayers/DEM_westus_bc_30m",
 "description": "USGS 30 meter DEM for Western US and BC Canada, collected for USDA-NRCS National Water and Climate Center by Geography, Portland State University",
 "extent": {
  "xmin": -3327701.4387831,
  "ymin": 880446.6644228576,
  "xmax": 13.865158890374005,
  "ymax": 4728688.419409698,
  "spatialReference": {
   "wkt2": "PROJCRS[\"NAD_1983_Albers\",BASEGEOGCRS[\"GCS_North_American_1983\",DATUM[\"D_North_American_1983\",ELLIPSOID[\"GRS_1980\",6378137.0,298.257222101,LENGTHUNIT[\"Meter\",1.0]]],PRIMEM[\"Greenwich\",0.0,ANGLEUNIT[\"Degree\",0.0174532925199433]],CS[ellipsoidal,2],AXIS[\"Latitude (lat)\",north,ORDER[1]],AXIS[\"Longitude (lon)\",east,ORDER[2]],ANGLEUNIT[\"Degree\",0.0174532925199433]],CONVERSION[\"Albers\",METHOD[\"Albers\"],PARAMETER[\"False_Easting\",0.0,LENGTHUNIT[\"Meter\",1.0]],PARAMETER[\"False_Northing\",0.0,LENGTHUNIT[\"Meter\",1.0]],PARAMETER[\"Central_Meridian\",-96.0,ANGLEUNIT[\"Degree\",0.0174532925199433]],PARAMETER[\"Standard_Parallel_1\",29.5,ANGLEUNIT[\"Degree\",0.0174532925199433]],PARAMETER[\"Standard_Parallel_2\",45.5,ANGLEUNIT[\"Degree\",0.0174532925199433]],PARAMETER[\"Latitude_Of_Origin\",23.0,ANGLEUNIT[\"Degree\",0.0174532925199433]]],CS[Cartesian,2],AXIS[\"Easting (X)\",east,ORDER[1]],AXIS[\"Northing (Y)\",north,ORDER[2]],LENGTHUNIT[\"Meter\",1.0]]",
   "wkt": "PROJCS[\"NAD_1983_Albers\",GEOGCS[\"GCS_North_American_1983\",DATUM[\"D_North_American_1983\",SPHEROID[\"GRS_1980\",6378137.0,298.257222101]],PRIMEM[\"Greenwich\",0.0],UNIT[\"Degree\",0.0174532925199433]],PROJECTION[\"Albers\"],PARAMETER[\"False_Easting\",0.0],PARAMETER[\"False_Northing\",0.0],PARAMETER[\"Central_Meridian\",-96.0],PARAMETER[\"Standard_Parallel_1\",29.5],PARAMETER[\"Standard_Parallel_2\",45.5],PARAMETER[\"Latitude_Of_Origin\",23.0],UNIT[\"Meter\",1.0]]"
  }
 },
 "initialExtent": {
  "xmin": -3327701.4387831,
  "ymin": 880446.6644228576,
  "xmax": 13.865158890374005,
  "ymax": 4728688.419409698,
  "spatialReference": {
   "wkt2": "PROJCRS[\"NAD_1983_Albers\",BASEGEOGCRS[\"GCS_North_American_1983\",DATUM[\"D_North_American_1983\",ELLIPSOID[\"GRS_1980\",6378137.0,298.257222101,LENGTHUNIT[\"Meter\",1.0]]],PRIMEM[\"Greenwich\",0.0,ANGLEUNIT[\"Degree\",0.0174532925199433]],CS[ellipsoidal,2],AXIS[\"Latitude (lat)\",north,ORDER[1]],AXIS[\"Longitude (lon)\",east,ORDER[2]],ANGLEUNIT[\"Degree\",0.0174532925199433]],CONVERSION[\"Albers\",METHOD[\"Albers\"],PARAMETER[\"False_Easting\",0.0,LENGTHUNIT[\"Meter\",1.0]],PARAMETER[\"False_Northing\",0.0,LENGTHUNIT[\"Meter\",1.0]],PARAMETER[\"Central_Meridian\",-96.0,ANGLEUNIT[\"Degree\",0.0174532925199433]],PARAMETER[\"Standard_Parallel_1\",29.5,ANGLEUNIT[\"Degree\",0.0174532925199433]],PARAMETER[\"Standard_Parallel_2\",45.5,ANGLEUNIT[\"Degree\",0.0174532925199433]],PARAMETER[\"Latitude_Of_Origin\",23.0,ANGLEUNIT[\"Degree\",0.0174532925199433]]],CS[Cartesian,2],AXIS[\"Easting (X)\",east,ORDER[1]],AXIS[\"Northing (Y)\",north,ORDER[2]],LENGTHUNIT[\"Meter\",1.0]]",
   "wkt": "PROJCS[\"NAD_1983_Albers\",GEOGCS[\"GCS_North_American_1983\",DATUM[\"D_North_American_1983\",SPHEROID[\"GRS_1980\",6378137.0,298.257222101]],PRIMEM[\"Greenwich\",0.0],UNIT[\"Degree\",0.0174532925199433]],PROJECTION[\"Albers\"],PARAMETER[\"False_Easting\",0.0],PARAMETER[\"False_Northing\",0.0],PARAMETER[\"Central_Meridian\",-96.0],PARAMETER[\"Standard_Parallel_1\",29.5],PARAMETER[\"Standard_Parallel_2\",45.5],PARAMETER[\"Latitude_Of_Origin\",23.0],UNIT[\"Meter\",1.0]]"
  }
 },
 "fullExtent": {
  "xmin": -3327701.4387831,
  "ymin": 880446.6644228576,
  "xmax": 13.865158890374005,
  "ymax": 4728688.419409698,
  "spatialReference": {
   "wkt2": "PROJCRS[\"NAD_1983_Albers\",BASEGEOGCRS[\"GCS_North_American_1983\",DATUM[\"D_North_American_1983\",ELLIPSOID[\"GRS_1980\",6378137.0,298.257222101,LENGTHUNIT[\"Meter\",1.0]]],PRIMEM[\"Greenwich\",0.0,ANGLEUNIT[\"Degree\",0.0174532925199433]],CS[ellipsoidal,2],AXIS[\"Latitude (lat)\",north,ORDER[1]],AXIS[\"Longitude (lon)\",east,ORDER[2]],ANGLEUNIT[\"Degree\",0.0174532925199433]],CONVERSION[\"Albers\",METHOD[\"Albers\"],PARAMETER[\"False_Easting\",0.0,LENGTHUNIT[\"Meter\",1.0]],PARAMETER[\"False_Northing\",0.0,LENGTHUNIT[\"Meter\",1.0]],PARAMETER[\"Central_Meridian\",-96.0,ANGLEUNIT[\"Degree\",0.0174532925199433]],PARAMETER[\"Standard_Parallel_1\",29.5,ANGLEUNIT[\"Degree\",0.0174532925199433]],PARAMETER[\"Standard_Parallel_2\",45.5,ANGLEUNIT[\"Degree\",0.0174532925199433]],PARAMETER[\"Latitude_Of_Origin\",23.0,ANGLEUNIT[\"Degree\",0.0174532925199433]]],CS[Cartesian,2],AXIS[\"Easting (X)\",east,ORDER[1]],AXIS[\"Northing (Y)\",north,ORDER[2]],LENGTHUNIT[\"Meter\",1.0]]",
   "wkt": "PROJCS[\"NAD_1983_Albers\",GEOGCS[\"GCS_North_American_1983\",DATUM[\"D_North_American_1983\",SPHEROID[\"GRS_1980\",6378137.0,298.257222101]],PRIMEM[\"Greenwich\",0.0],UNIT[\"Degree\",0.0174532925199433]],PROJECTION[\"Albers\"],PARAMETER[\"False_Easting\",0.0],PARAMETER[\"False_Northing\",0.0],PARAMETER[\"Central_Meridian\",-96.0],PARAMETER[\"Standard_Parallel_1\",29.5],PARAMETER[\"Standard_Parallel_2\",45.5],PARAMETER[\"Latitude_Of_Origin\",23.0],UNIT[\"Meter\",1.0]]"
  }
 },
 "sortableFields": "",
 "bandCount": 1,
 "pixelType": "F32",
 "minValues": [
  -85.61865234375
 ],
 "maxValues": [
  6421
 ],
 "meanValues": [
  1049.3403475531452
 ],
 "stdvValues": [
  706.9744993396625
 ],
 "hasMultidimensions": false,
 "pixelSizeX": 22.14534997,
 "pixelSizeY": 22.14534997,
 "meanPixelSize": 22.14534997,
 "datasetFormat": "GRID",
 "uncompressedSize": 104448788496,
 "blockWidth": 256,
 "blockHeight": 16,
 "compressionType": "None",
 "bandNames": [
  "Band_1"
 ],
 "allowCopy": true,
 "allowAnalysis": true,
 "itemAccess": false,
 "inspectionCapabilities": "",
 "noDataValue": -3.4028234663852886E38,
 "noDataValues": [
  -3.4028234663852886E38
 ],
 "minPixelSize": 0,
 "maxPixelSize": 0,
 "copyrightText": "Geography, Portland State University",
 "serviceDataType": "esriImageServiceDataTypeGeneric",
 "serviceSourceType": "esriImageServiceSourceTypeDataset",
 "objectIdField": "",
 "fields": [],
 "capabilities": "Mensuration,Image,Metadata",
 "defaultMosaicMethod": "Center",
 "allowedMosaicMethods": "",
 "sortField": "",
 "sortValue": null,
 "sortAscending": true,
 "mosaicOperator": "First",
 "defaultCompressionQuality": 75,
 "defaultResamplingMethod": "Nearest",
 "maxImageHeight": 41000,
 "maxImageWidth": 38000,
 "allowRasterFunction": true,
 "rasterFunctionInfos": [
  {
   "name": "None",
   "description": "",
   "help": ""
  }
 ],
 "rasterTypeInfos": [
  {
   "name": "Raster Dataset",
   "description": "Supports all ArcGIS Raster Datasets",
   "help": ""
  }
 ],
 "mensurationCapabilities": "Basic",
 "hasHistograms": false,
 "hasColormap": false,
 "hasRasterAttributeTable": false,
 "minScale": 0,
 "maxScale": 0,
 "exportTilesAllowed": false,
 "supportsStatistics": false,
 "supportsAdvancedQueries": false,
 "editFieldsInfo": null,
 "ownershipBasedAccessControlForRasters": null,
 "allowComputeTiePoints": false,
 "useStandardizedQueries": true,
 "advancedQueryCapabilities": {
  "useStandardizedQueries": true,
  "supportsStatistics": false,
  "supportsOrderBy": false,
  "supportsDistinct": false,
  "supportsPagination": false
 },
 "spatialReference": {
  "wkt2": "PROJCRS[\"NAD_1983_Albers\",BASEGEOGCRS[\"GCS_North_American_1983\",DATUM[\"D_North_American_1983\",ELLIPSOID[\"GRS_1980\",6378137.0,298.257222101,LENGTHUNIT[\"Meter\",1.0]]],PRIMEM[\"Greenwich\",0.0,ANGLEUNIT[\"Degree\",0.0174532925199433]],CS[ellipsoidal,2],AXIS[\"Latitude (lat)\",north,ORDER[1]],AXIS[\"Longitude (lon)\",east,ORDER[2]],ANGLEUNIT[\"Degree\",0.0174532925199433]],CONVERSION[\"Albers\",METHOD[\"Albers\"],PARAMETER[\"False_Easting\",0.0,LENGTHUNIT[\"Meter\",1.0]],PARAMETER[\"False_Northing\",0.0,LENGTHUNIT[\"Meter\",1.0]],PARAMETER[\"Central_Meridian\",-96.0,ANGLEUNIT[\"Degree\",0.0174532925199433]],PARAMETER[\"Standard_Parallel_1\",29.5,ANGLEUNIT[\"Degree\",0.0174532925199433]],PARAMETER[\"Standard_Parallel_2\",45.5,ANGLEUNIT[\"Degree\",0.0174532925199433]],PARAMETER[\"Latitude_Of_Origin\",23.0,ANGLEUNIT[\"Degree\",0.0174532925199433]]],CS[Cartesian,2],AXIS[\"Easting (X)\",east,ORDER[1]],AXIS[\"Northing (Y)\",north,ORDER[2]],LENGTHUNIT[\"Meter\",1.0]]",
  "wkt": "PROJCS[\"NAD_1983_Albers\",GEOGCS[\"GCS_North_American_1983\",DATUM[\"D_North_American_1983\",SPHEROID[\"GRS_1980\",6378137.0,298.257222101]],PRIMEM[\"Greenwich\",0.0],UNIT[\"Degree\",0.0174532925199433]],PROJECTION[\"Albers\"],PARAMETER[\"False_Easting\",0.0],PARAMETER[\"False_Northing\",0.0],PARAMETER[\"Central_Meridian\",-96.0],PARAMETER[\"Standard_Parallel_1\",29.5],PARAMETER[\"Standard_Parallel_2\",45.5],PARAMETER[\"Latitude_Of_Origin\",23.0],UNIT[\"Meter\",1.0]]"
 }
}
