View In:
ArcGIS JavaScript
ArcGIS Online Map Viewer
ArcGIS Earth
Service Description: Alaska 2016 30-meter NLCD Land Cover. 0. Unclassified, 11. Open Water, 12. Perennial Snow/Ice, 21. Developed, Open Space, 22. Developed, Low Intensity, 23. Developed, Medium Intensity, 24. Developed, High Intensity, 31. Barren Land, 41. Deciduous Forest, 42. Evergreen Forest, 43. Mixed Forest, 52. Shrub/Scrub, 71. Herbaceous, 81. Hay/Pasture, 82. Cultivated Crops, 90. Woody Wetlands, 95. Emergent Herbaceous Wetlands. See: https://www.mrlc.gov/data/nlcd-2016-land-cover-alaska
Name: BAGIS_Databin/NLCD_2016_land_cover_AK
Description: Alaska 2016 30-meter NLCD Land Cover. 0. Unclassified, 11. Open Water, 12. Perennial Snow/Ice, 21. Developed, Open Space, 22. Developed, Low Intensity, 23. Developed, Medium Intensity, 24. Developed, High Intensity, 31. Barren Land, 41. Deciduous Forest, 42. Evergreen Forest, 43. Mixed Forest, 52. Shrub/Scrub, 71. Herbaceous, 81. Hay/Pasture, 82. Cultivated Crops, 90. Woody Wetlands, 95. Emergent Herbaceous Wetlands. See: https://www.mrlc.gov/data/nlcd-2016-land-cover-alaska
Single Fused Map Cache: false
Extent:
XMin: -5722032.882250712
YMin: 3595849.016409614
XMax: -1146852.8822507123
YMax: 7572709.016409614
Spatial Reference: 102039
(102039)
LatestVCSWkid(0)
Initial Extent:
XMin: -5722032.882250712
YMin: 3595849.016409614
XMax: -1146852.8822507123
YMax: 7572709.016409614
Spatial Reference: 102039
(102039)
LatestVCSWkid(0)
Full Extent:
XMin: -5722032.882250712
YMin: 3595849.016409614
XMax: -1146852.8822507123
YMax: 7572709.016409614
Spatial Reference: 102039
(102039)
LatestVCSWkid(0)
Pixel Size X: 30.0
Pixel Size Y: 30.0
Band Count: 1
Pixel Type: U8
RasterFunction Infos: {"rasterFunctionInfos": [{
"name": "None",
"description": "",
"help": ""
}]}
Mensuration Capabilities: Basic
Inspection Capabilities:
Has Histograms: true
Has Colormap: true
Has Multi Dimensions : false
Rendering Rule:
Min Scale: 0
Max Scale: 0
Copyright Text: Geography, Portland State University
Service Data Type: esriImageServiceDataTypeThematic
Min Values: 0
Max Values: 95
Mean Values: 44.737101917346486
Standard Deviation Values: 21.058839205411793
Object ID Field:
Fields:
None
Default Mosaic Method: Center
Allowed Mosaic Methods:
SortField:
SortValue: null
Mosaic Operator: First
Default Compression Quality: 75
Default Resampling Method: Nearest
Max Record Count: null
Max Image Height: 17200
Max Image Width: 20500
Max Download Image Count: null
Max Mosaic Image Count: null
Allow Raster Function: true
Allow Copy: true
Allow Analysis: true
Allow Compute TiePoints: false
Supports Statistics: false
Supports Advanced Queries: false
Use StandardizedQueries: true
Raster Type Infos:
Name: Raster Dataset
Description: Supports all ArcGIS Raster Datasets
Help:
Has Raster Attribute Table: true
Edit Fields Info: null
Ownership Based AccessControl For Rasters: null
Child Resources:
Info
Raster Attribute Table
Histograms
Statistics
Key Properties
Color Map
Legend
Raster Function Infos
Supported Operations:
Export Image
Identify
Measure
Compute Histograms
Compute Statistics Histograms
Get Samples
Compute Class Statistics
Query Boundary
Compute Pixel Location
Compute Angles
Validate
Project