{
 "currentVersion": 11.4,
 "serviceDescription": "Alaska 2016 30-meter NLCD Land Cover. 0. Unclassified, 11. Open Water, 12. Perennial Snow/Ice, 21. Developed, Open Space, 22. Developed, Low Intensity, 23. Developed, Medium Intensity, 24. Developed, High Intensity, 31. Barren Land, 41. Deciduous Forest, 42. Evergreen Forest, 43. Mixed Forest, 52. Shrub/Scrub, 71. Herbaceous, 81. Hay/Pasture, 82. Cultivated Crops, 90. Woody Wetlands, 95. Emergent Herbaceous Wetlands. See: https://www.mrlc.gov/data/nlcd-2016-land-cover-alaska",
 "name": "BAGIS_Databin/NLCD_2016_land_cover_AK",
 "description": "Alaska 2016 30-meter NLCD Land Cover. 0. Unclassified, 11. Open Water, 12. Perennial Snow/Ice, 21. Developed, Open Space, 22. Developed, Low Intensity, 23. Developed, Medium Intensity, 24. Developed, High Intensity, 31. Barren Land, 41. Deciduous Forest, 42. Evergreen Forest, 43. Mixed Forest, 52. Shrub/Scrub, 71. Herbaceous, 81. Hay/Pasture, 82. Cultivated Crops, 90. Woody Wetlands, 95. Emergent Herbaceous Wetlands. See: https://www.mrlc.gov/data/nlcd-2016-land-cover-alaska",
 "extent": {
  "xmin": -5722032.882250712,
  "ymin": 3595849.016409614,
  "xmax": -1146852.8822507123,
  "ymax": 7572709.016409614,
  "spatialReference": {
   "wkid": 102039,
   "latestWkid": 102039
  }
 },
 "initialExtent": {
  "xmin": -5722032.882250712,
  "ymin": 3595849.016409614,
  "xmax": -1146852.8822507123,
  "ymax": 7572709.016409614,
  "spatialReference": {
   "wkid": 102039,
   "latestWkid": 102039
  }
 },
 "fullExtent": {
  "xmin": -5722032.882250712,
  "ymin": 3595849.016409614,
  "xmax": -1146852.8822507123,
  "ymax": 7572709.016409614,
  "spatialReference": {
   "wkid": 102039,
   "latestWkid": 102039
  }
 },
 "sortableFields": "",
 "bandCount": 1,
 "pixelType": "U8",
 "minValues": [
  0
 ],
 "maxValues": [
  95
 ],
 "meanValues": [
  44.737101917346486
 ],
 "stdvValues": [
  21.058839205411793
 ],
 "hasMultidimensions": false,
 "pixelSizeX": 30,
 "pixelSizeY": 30,
 "meanPixelSize": 30,
 "datasetFormat": "FGDBR",
 "uncompressedSize": 20216500372,
 "blockWidth": 128,
 "blockHeight": 128,
 "compressionType": "LZ77",
 "bandNames": [
  "Band_1"
 ],
 "allowCopy": true,
 "allowAnalysis": true,
 "itemAccess": false,
 "inspectionCapabilities": "",
 "minPixelSize": 0,
 "maxPixelSize": 0,
 "copyrightText": "Geography, Portland State University",
 "serviceDataType": "esriImageServiceDataTypeThematic",
 "serviceSourceType": "esriImageServiceSourceTypeDataset",
 "objectIdField": "",
 "fields": [],
 "capabilities": "Mensuration,Image,Metadata",
 "defaultMosaicMethod": "Center",
 "allowedMosaicMethods": "",
 "sortField": "",
 "sortValue": null,
 "sortAscending": true,
 "mosaicOperator": "First",
 "defaultCompressionQuality": 75,
 "defaultResamplingMethod": "Nearest",
 "maxImageHeight": 17200,
 "maxImageWidth": 20500,
 "allowRasterFunction": true,
 "rasterFunctionInfos": [
  {
   "name": "None",
   "description": "",
   "help": ""
  }
 ],
 "rasterTypeInfos": [
  {
   "name": "Raster Dataset",
   "description": "Supports all ArcGIS Raster Datasets",
   "help": ""
  }
 ],
 "mensurationCapabilities": "Basic",
 "hasHistograms": true,
 "hasColormap": true,
 "hasRasterAttributeTable": true,
 "minScale": 0,
 "maxScale": 0,
 "exportTilesAllowed": false,
 "supportsStatistics": false,
 "supportsAdvancedQueries": false,
 "editFieldsInfo": null,
 "ownershipBasedAccessControlForRasters": null,
 "allowComputeTiePoints": false,
 "useStandardizedQueries": true,
 "advancedQueryCapabilities": {
  "useStandardizedQueries": true,
  "supportsStatistics": false,
  "supportsOrderBy": false,
  "supportsDistinct": false,
  "supportsPagination": false
 },
 "spatialReference": {
  "wkid": 102039,
  "latestWkid": 102039
 }
}
