View In:
ArcGIS JavaScript
ArcGIS Online Map Viewer
ArcGIS Earth
Service Description: Monitoring Trends in Burn Severity (MTBS) burn severity and extent of large fires for Alaska. See https://mtbs.gov/project-overview for more information. The source downloaded USGS data was converted to integer type by PSU before publishing.
Name: usgs_mtbs_ak/mtbs_AK_2008
Description: Monitoring Trends in Burn Severity (MTBS) burn severity and extent of large fires for Alaska. See https://mtbs.gov/project-overview for more information. The source downloaded USGS data was converted to integer type by PSU before publishing.
Single Fused Map Cache: false
Extent:
XMin: -3580470.8857356138
YMin: 4927977.062228655
XMax: -2480430.8857356138
YMax: 5932767.062228655
Spatial Reference: 102039
(102039)
LatestVCSWkid(0)
Initial Extent:
XMin: -3580470.8857356138
YMin: 4927977.062228655
XMax: -2480430.8857356138
YMax: 5932767.062228655
Spatial Reference: 102039
(102039)
LatestVCSWkid(0)
Full Extent:
XMin: -3580470.8857356138
YMin: 4927977.062228655
XMax: -2480430.8857356138
YMax: 5932767.062228655
Spatial Reference: 102039
(102039)
LatestVCSWkid(0)
Pixel Size X: 30.0
Pixel Size Y: 30.0
Band Count: 1
Pixel Type: U8
RasterFunction Infos: {"rasterFunctionInfos": [{
"name": "None",
"description": "",
"help": ""
}]}
Mensuration Capabilities: Basic
Inspection Capabilities:
Has Histograms: true
Has Colormap: false
Has Multi Dimensions : false
Rendering Rule:
Min Scale: 0
Max Scale: 0
Copyright Text: USGS, PSU Geography
Service Data Type: esriImageServiceDataTypeThematic
Min Values: 1
Max Values: 6
Mean Values: 2.4523952108895872
Standard Deviation Values: 1.2118930490352062
Object ID Field:
Fields:
None
Default Mosaic Method: Center
Allowed Mosaic Methods:
SortField:
SortValue: null
Mosaic Operator: First
Default Compression Quality: 75
Default Resampling Method: Nearest
Max Record Count: null
Max Image Height: 41000
Max Image Width: 38000
Max Download Image Count: null
Max Mosaic Image Count: null
Allow Raster Function: true
Allow Copy: true
Allow Analysis: true
Allow Compute TiePoints: false
Supports Statistics: false
Supports Advanced Queries: false
Use StandardizedQueries: true
Raster Type Infos:
Name: Raster Dataset
Description: Supports all ArcGIS Raster Datasets
Help:
Has Raster Attribute Table: true
Edit Fields Info: null
Ownership Based AccessControl For Rasters: null
Child Resources:
Info
Raster Attribute Table
Histograms
Statistics
Key Properties
Legend
Raster Function Infos
Supported Operations:
Export Image
Identify
Measure
Compute Histograms
Compute Statistics Histograms
Get Samples
Compute Class Statistics
Query Boundary
Compute Pixel Location
Compute Angles
Validate
Project