View In:
ArcGIS JavaScript
ArcGIS Online Map Viewer
ArcGIS Earth
Service Description: 30-year (1991-2020, Version M4, released in December 2022) monthly/quarterly/annual average precipitation data created by the PRISM Climate Group, collected for USDA-NRCS National Water and Climate Center by Geography, Portland State University
Name: BAGIS_PRISM_1991_2020/Prism_Precipitation_05
Description: 30-year (1991-2020, Version M4, released in December 2022) monthly/quarterly/annual average precipitation data created by the PRISM Climate Group, collected for USDA-NRCS National Water and Climate Center by Geography, Portland State University
Single Fused Map Cache: false
Extent:
XMin: -2950369.137125122
YMin: 114776.67789509846
XMax: 3000347.6198349227
YMax: 3323037.991377172
Spatial Reference: 0
(0)
LatestVCSWkid(0)
Initial Extent:
XMin: -2950369.137125122
YMin: 114776.67789509846
XMax: 3000347.6198349227
YMax: 3323037.991377172
Spatial Reference: 0
(0)
LatestVCSWkid(0)
Full Extent:
XMin: -2950369.137125122
YMin: 114776.67789509846
XMax: 3000347.6198349227
YMax: 3323037.991377172
Spatial Reference: 0
(0)
LatestVCSWkid(0)
Pixel Size X: 935.3531526186804
Pixel Size Y: 935.3531526186804
Band Count: 1
Pixel Type: F32
RasterFunction Infos: {"rasterFunctionInfos": [{
"name": "None",
"description": "",
"help": ""
}]}
Mensuration Capabilities: Basic
Inspection Capabilities:
Has Histograms: true
Has Colormap: false
Has Multi Dimensions : false
Rendering Rule:
Min Scale: 0
Max Scale: 0
Copyright Text: Geography, Portland State University
Service Data Type: esriImageServiceDataTypeGeneric
Min Values: 0.014326770789921284
Max Values: 12.690945625305176
Mean Values: 3.138388695311994
Standard Deviation Values: 1.5889445073973094
Object ID Field:
Fields:
None
Default Mosaic Method: Center
Allowed Mosaic Methods:
SortField:
SortValue: null
Mosaic Operator: First
Default Compression Quality: 75
Default Resampling Method: Bilinear
Max Record Count: null
Max Image Height: 4100
Max Image Width: 15000
Max Download Image Count: null
Max Mosaic Image Count: null
Allow Raster Function: true
Allow Copy: true
Allow Analysis: true
Allow Compute TiePoints: false
Supports Statistics: false
Supports Advanced Queries: false
Use StandardizedQueries: true
Raster Type Infos:
Name: Raster Dataset
Description: Supports all ArcGIS Raster Datasets
Help:
Has Raster Attribute Table: false
Edit Fields Info: null
Ownership Based AccessControl For Rasters: null
Child Resources:
Info
Histograms
Statistics
Key Properties
Legend
Raster Function Infos
Supported Operations:
Export Image
Identify
Measure
Compute Histograms
Compute Statistics Histograms
Get Samples
Compute Class Statistics
Query Boundary
Compute Pixel Location
Compute Angles
Validate
Project