View In:
ArcGIS JavaScript
ArcGIS Online Map Viewer
ArcGIS Earth
Service Description: Alaska 30-year (1981-2010) monthly/quarterly/annual average precipitation data created by the PRISM Climate Group, collected for USDA-NRCS National Water and Climate Center by Geography, Portland State University
Name: BAGIS_PRISM_1981_2010_AK/Prism_Precipitation_06
Description: Alaska 30-year (1981-2010) monthly/quarterly/annual average precipitation data created by the PRISM Climate Group, collected for USDA-NRCS National Water and Climate Center by Geography, Portland State University
Single Fused Map Cache: false
Extent:
XMin: -5651028.036578063
YMin: 3327389.832273822
XMax: -1339416.2635898925
YMax: 7204110.187771309
Spatial Reference: 0
(0)
LatestVCSWkid(0)
Initial Extent:
XMin: -5651028.036578063
YMin: 3327389.832273822
XMax: -1339416.2635898925
YMax: 7204110.187771309
Spatial Reference: 0
(0)
LatestVCSWkid(0)
Full Extent:
XMin: -5651028.036578063
YMin: 3327389.832273822
XMax: -1339416.2635898925
YMax: 7204110.187771309
Spatial Reference: 0
(0)
LatestVCSWkid(0)
Pixel Size X: 909.8146809428509
Pixel Size Y: 909.8146809428508
Band Count: 1
Pixel Type: F32
RasterFunction Infos: {"rasterFunctionInfos": [{
"name": "None",
"description": "",
"help": ""
}]}
Mensuration Capabilities: Basic
Inspection Capabilities:
Has Histograms: true
Has Colormap: false
Has Multi Dimensions : false
Rendering Rule:
Min Scale: 0
Max Scale: 0
Copyright Text: Geography, Portland State University
Service Data Type: esriImageServiceDataTypeGeneric
Min Values: 0.06401575356721878
Max Values: 15.284883499145508
Mean Values: 2.1170471824534656
Standard Deviation Values: 1.3820524618196304
Object ID Field:
Fields:
None
Default Mosaic Method: Center
Allowed Mosaic Methods:
SortField:
SortValue: null
Mosaic Operator: First
Default Compression Quality: 75
Default Resampling Method: Bilinear
Max Record Count: null
Max Image Height: 4100
Max Image Width: 15000
Max Download Image Count: null
Max Mosaic Image Count: null
Allow Raster Function: true
Allow Copy: true
Allow Analysis: true
Allow Compute TiePoints: false
Supports Statistics: false
Supports Advanced Queries: false
Use StandardizedQueries: true
Raster Type Infos:
Name: Raster Dataset
Description: Supports all ArcGIS Raster Datasets
Help:
Has Raster Attribute Table: false
Edit Fields Info: null
Ownership Based AccessControl For Rasters: null
Child Resources:
Info
Histograms
Statistics
Key Properties
Legend
Raster Function Infos
Supported Operations:
Export Image
Identify
Measure
Compute Histograms
Compute Statistics Histograms
Get Samples
Compute Class Statistics
Query Boundary
Compute Pixel Location
Compute Angles
Validate
Project