View In:
ArcGIS JavaScript
ArcGIS Online Map Viewer
ArcGIS Earth
Service Description: 30-year (1971-2000) monthly/quarterly/annual average precipitation data created by the PRISM Climate Group, collected for USDA-NRCS National Water and Climate Center by Geography, Portland State University
Name: BAGIS_PRISM_1971_2000/Prism_Precipitation_01
Description: 30-year (1971-2000) monthly/quarterly/annual average precipitation data created by the PRISM Climate Group, collected for USDA-NRCS National Water and Climate Center by Geography, Portland State University
Single Fused Map Cache: false
Extent:
XMin: -5443003.125609035
YMin: 114449.40737003833
XMax: 3001365.1541197654
YMax: 6635731.601241238
Spatial Reference: 0
(0)
LatestVCSWkid(0)
Initial Extent:
XMin: -5443003.125609035
YMin: 114449.40737003833
XMax: 3001365.1541197654
YMax: 6635731.601241238
Spatial Reference: 0
(0)
LatestVCSWkid(0)
Full Extent:
XMin: -5443003.125609035
YMin: 114449.40737003833
XMax: 3001365.1541197654
YMax: 6635731.601241238
Spatial Reference: 0
(0)
LatestVCSWkid(0)
Pixel Size X: 935.3531546
Pixel Size Y: 935.3531546
Band Count: 1
Pixel Type: F32
RasterFunction Infos: {"rasterFunctionInfos": [{
"name": "None",
"description": "",
"help": ""
}]}
Mensuration Capabilities: Basic
Inspection Capabilities:
Has Histograms: false
Has Colormap: false
Has Multi Dimensions : false
Rendering Rule:
Min Scale: 0
Max Scale: 0
Copyright Text: Geography, Portland State University
Service Data Type: esriImageServiceDataTypeGeneric
Min Values: -3.9370079040527
Max Values: 59.042686462402
Mean Values: 2.410288382071
Standard Deviation Values: 3.0666904092595
Object ID Field:
Fields:
None
Default Mosaic Method: Center
Allowed Mosaic Methods:
SortField:
SortValue: null
Mosaic Operator: First
Default Compression Quality: 75
Default Resampling Method: Bilinear
Max Record Count: null
Max Image Height: 4100
Max Image Width: 15000
Max Download Image Count: null
Max Mosaic Image Count: null
Allow Raster Function: true
Allow Copy: true
Allow Analysis: true
Allow Compute TiePoints: false
Supports Statistics: false
Supports Advanced Queries: false
Use StandardizedQueries: true
Raster Type Infos:
Name: Raster Dataset
Description: Supports all ArcGIS Raster Datasets
Help:
Has Raster Attribute Table: false
Edit Fields Info: null
Ownership Based AccessControl For Rasters: null
Child Resources:
Info
Statistics
Key Properties
Legend
Raster Function Infos
Supported Operations:
Export Image
Identify
Measure
Compute Histograms
Compute Statistics Histograms
Get Samples
Compute Class Statistics
Query Boundary
Compute Pixel Location
Compute Angles
Validate
Project