View In:
ArcGIS JavaScript
ArcGIS Online Map Viewer
ArcGIS Earth
Service Description: 100 meters DEM for Western US, including Alaska, and Yukon and British Columbia, Canada. The DEM is resampled from 30 meters USGS and ASTER DEM using cubic convolution resampling method. The DEM was collected and compiled for USDA-NRCS National Water and Climate Center by Geography, Portland State University.
Name: BAGIS_GISLayers/WesternNorthAmerica_DEM_100m
Description: 100 meters DEM for Western US, including Alaska, and Yukon and British Columbia, Canada. The DEM is resampled from 30 meters USGS and ASTER DEM using cubic convolution resampling method. The DEM was collected and compiled for USDA-NRCS National Water and Climate Center by Geography, Portland State University.
Single Fused Map Cache: false
Extent:
XMin: -5620101.4387831
YMin: 880488.4194096979
XMax: -1.438783099874854
YMax: 7210788.419409698
Spatial Reference: 0
(0)
LatestVCSWkid(0)
Initial Extent:
XMin: -5620101.4387831
YMin: 880488.4194096979
XMax: -1.438783099874854
YMax: 7210788.419409698
Spatial Reference: 0
(0)
LatestVCSWkid(0)
Full Extent:
XMin: -5620101.4387831
YMin: 880488.4194096979
XMax: -1.438783099874854
YMax: 7210788.419409698
Spatial Reference: 0
(0)
LatestVCSWkid(0)
Pixel Size X: 100.0
Pixel Size Y: 100.0
Band Count: 1
Pixel Type: F32
RasterFunction Infos: {"rasterFunctionInfos": [{
"name": "None",
"description": "",
"help": ""
}]}
Mensuration Capabilities: Basic
Inspection Capabilities:
Has Histograms: true
Has Colormap: false
Has Multi Dimensions : false
Rendering Rule:
Min Scale: 0
Max Scale: 0
Copyright Text: Geography, Portland State University
Service Data Type: esriImageServiceDataTypeGeneric
Min Values: -282.98089599609
Max Values: 6410.0053710938
Mean Values: 867.71856585661
Standard Deviation Values: 718.75992624898
Object ID Field:
Fields:
None
Default Mosaic Method: Center
Allowed Mosaic Methods:
SortField:
SortValue: null
Mosaic Operator: First
Default Compression Quality: 75
Default Resampling Method: Bilinear
Max Record Count: null
Max Image Height: 4100
Max Image Width: 15000
Max Download Image Count: null
Max Mosaic Image Count: null
Allow Raster Function: true
Allow Copy: true
Allow Analysis: true
Allow Compute TiePoints: false
Supports Statistics: false
Supports Advanced Queries: false
Use StandardizedQueries: true
Raster Type Infos:
Name: Raster Dataset
Description: Supports all ArcGIS Raster Datasets
Help:
Has Raster Attribute Table: false
Edit Fields Info: null
Ownership Based AccessControl For Rasters: null
Child Resources:
Info
Histograms
Statistics
Key Properties
Legend
Raster Function Infos
Supported Operations:
Export Image
Identify
Measure
Compute Histograms
Compute Statistics Histograms
Get Samples
Compute Class Statistics
Query Boundary
Compute Pixel Location
Compute Angles
Validate
Project