View In:
ArcGIS JavaScript
ArcGIS Online Map Viewer
ArcGIS Earth
Service Description: USGS and ASTER 30 meter DEM for Alaska and Yukon Territory, Canada, collected for USDA-NRCS National Water and Climate Center by Geography, Portland State University
Name: BAGIS_GISLayers/DEM_Alaska_Yukon_30m
Description: USGS and ASTER 30 meter DEM for Alaska and Yukon Territory, Canada, collected for USDA-NRCS National Water and Climate Center by Geography, Portland State University
Single Fused Map Cache: false
Extent:
XMin: -5482571.198540521
YMin: 4191040.774478292
XMax: -1389756.1984850005
YMax: 6211516.069691182
Spatial Reference: 0
(0)
LatestVCSWkid(0)
Initial Extent:
XMin: -5482571.198540521
YMin: 4191040.774478292
XMax: -1389756.1984850005
YMax: 6211516.069691182
Spatial Reference: 0
(0)
LatestVCSWkid(0)
Full Extent:
XMin: -5482571.198540521
YMin: 4191040.774478292
XMax: -1389756.1984850005
YMax: 6211516.069691182
Spatial Reference: 0
(0)
LatestVCSWkid(0)
Pixel Size X: 22.14534997
Pixel Size Y: 22.14534997
Band Count: 1
Pixel Type: F32
RasterFunction Infos: {"rasterFunctionInfos": [{
"name": "None",
"description": "",
"help": ""
}]}
Mensuration Capabilities: Basic
Inspection Capabilities:
Has Histograms: true
Has Colormap: false
Has Multi Dimensions : false
Rendering Rule:
Min Scale: 0
Max Scale: 0
Copyright Text: Geography, Portland State University
Service Data Type: esriImageServiceDataTypeGeneric
Min Values: -304
Max Values: 6411
Mean Values: 461.36527938076
Standard Deviation Values: 548.07275235253
Object ID Field:
Fields:
None
Default Mosaic Method: Center
Allowed Mosaic Methods:
SortField:
SortValue: null
Mosaic Operator: First
Default Compression Quality: 75
Default Resampling Method: Bilinear
Max Record Count: null
Max Image Height: 23400
Max Image Width: 28000
Max Download Image Count: null
Max Mosaic Image Count: null
Allow Raster Function: true
Allow Copy: true
Allow Analysis: true
Allow Compute TiePoints: false
Supports Statistics: false
Supports Advanced Queries: false
Use StandardizedQueries: true
Raster Type Infos:
Name: Raster Dataset
Description: Supports all ArcGIS Raster Datasets
Help:
Has Raster Attribute Table: false
Edit Fields Info: null
Ownership Based AccessControl For Rasters: null
Child Resources:
Info
Histograms
Statistics
Key Properties
Legend
Raster Function Infos
Supported Operations:
Export Image
Identify
Measure
Compute Histograms
Compute Statistics Histograms
Get Samples
Compute Class Statistics
Query Boundary
Compute Pixel Location
Compute Angles
Validate
Project