View In:
ArcGIS JavaScript
ArcGIS Online Map Viewer
ArcGIS Earth
Service Description: 500-meter Statsgo soil map unit ID data, with additional attribute fields compiled for BAGIS-P. The additional attributes are ROCKDEPM, AWC_100, AWC_150, and AWC_250.
Name: BAGIS_Databin/STATSGO_BAGIS_muid
Description: 500-meter Statsgo soil map unit ID data, with additional attribute fields compiled for BAGIS-P. The additional attributes are ROCKDEPM, AWC_100, AWC_150, and AWC_250.
Single Fused Map Cache: false
Extent:
XMin: -2356161.7627000017
YMin: 277091.0473999996
XMax: 2258338.2372999983
YMax: 3173091.0473999996
Spatial Reference: 102039
(102039)
LatestVCSWkid(0)
Initial Extent:
XMin: -2356161.7627000017
YMin: 277091.0473999996
XMax: 2258338.2372999983
YMax: 3173091.0473999996
Spatial Reference: 102039
(102039)
LatestVCSWkid(0)
Full Extent:
XMin: -2356161.7627000017
YMin: 277091.0473999996
XMax: 2258338.2372999983
YMax: 3173091.0473999996
Spatial Reference: 102039
(102039)
LatestVCSWkid(0)
Pixel Size X: 500.0
Pixel Size Y: 500.0
Band Count: 1
Pixel Type: U16
RasterFunction Infos: {"rasterFunctionInfos": [{
"name": "None",
"description": "",
"help": ""
}]}
Mensuration Capabilities: Basic
Inspection Capabilities:
Has Histograms: true
Has Colormap: false
Has Multi Dimensions : false
Rendering Rule:
Min Scale: 0
Max Scale: 0
Copyright Text: Geography, Portland State University
Service Data Type: esriImageServiceDataTypeThematic
Min Values: 1
Max Values: 10498
Mean Values: 4348.231881908775
Standard Deviation Values: 2982.040417737917
Object ID Field:
Fields:
None
Default Mosaic Method: Center
Allowed Mosaic Methods:
SortField:
SortValue: null
Mosaic Operator: First
Default Compression Quality: 75
Default Resampling Method: Bilinear
Max Record Count: null
Max Image Height: 4100
Max Image Width: 15000
Max Download Image Count: null
Max Mosaic Image Count: null
Allow Raster Function: true
Allow Copy: true
Allow Analysis: true
Allow Compute TiePoints: false
Supports Statistics: false
Supports Advanced Queries: false
Use StandardizedQueries: true
Raster Type Infos:
Name: Raster Dataset
Description: Supports all ArcGIS Raster Datasets
Help:
Has Raster Attribute Table: true
Edit Fields Info: null
Ownership Based AccessControl For Rasters: null
Child Resources:
Info
Raster Attribute Table
Histograms
Statistics
Key Properties
Legend
Raster Function Infos
Supported Operations:
Export Image
Identify
Measure
Compute Histograms
Compute Statistics Histograms
Get Samples
Compute Class Statistics
Query Boundary
Compute Pixel Location
Compute Angles
Validate
Project