View In:
ArcGIS JavaScript
ArcGIS Online Map Viewer
ArcGIS Earth
Service Description: 30-year (1981-2010) average August maximum temperature data created by the PRISM Climate Group, collected for USDA-
NRCS National Water and Climate Center by Geography, Portland State University
Name: BAGIS_Databin/PRISM_1981_2010_tmax_august
Description: 30-year (1981-2010) average August maximum temperature data created by the PRISM Climate Group, collected for USDA-
NRCS National Water and Climate Center by Geography, Portland State University
Single Fused Map Cache: false
Extent:
XMin: -2951222.3217546344
YMin: 114449.40737003833
XMax: 3000429.803635793
YMax: 3323646.08224267
Spatial Reference: 0
(0)
LatestVCSWkid(0)
Initial Extent:
XMin: -2951222.3217546344
YMin: 114449.40737003833
XMax: 3000429.803635793
YMax: 3323646.08224267
Spatial Reference: 0
(0)
LatestVCSWkid(0)
Full Extent:
XMin: -2951222.3217546344
YMin: 114449.40737003833
XMax: 3000429.803635793
YMax: 3323646.08224267
Spatial Reference: 0
(0)
LatestVCSWkid(0)
Pixel Size X: 935.353155019712
Pixel Size Y: 935.353155019712
Band Count: 1
Pixel Type: F32
RasterFunction Infos: {"rasterFunctionInfos": [{
"name": "None",
"description": "",
"help": ""
}]}
Mensuration Capabilities: Basic
Inspection Capabilities:
Has Histograms: true
Has Colormap: false
Has Multi Dimensions : false
Rendering Rule:
Min Scale: 0
Max Scale: 0
Copyright Text: Geography, Portland State University
Service Data Type: esriImageServiceDataTypeGeneric
Min Values: 3.640000104904175
Max Values: 45.95000076293945
Mean Values: 29.76773780140534
Standard Deviation Values: 4.0014062801816275
Object ID Field:
Fields:
None
Default Mosaic Method: Center
Allowed Mosaic Methods:
SortField:
SortValue: null
Mosaic Operator: First
Default Compression Quality: 75
Default Resampling Method: Bilinear
Max Record Count: null
Max Image Height: 4100
Max Image Width: 15000
Max Download Image Count: null
Max Mosaic Image Count: null
Allow Raster Function: true
Allow Copy: true
Allow Analysis: true
Allow Compute TiePoints: false
Supports Statistics: false
Supports Advanced Queries: false
Use StandardizedQueries: true
Raster Type Infos:
Name: Raster Dataset
Description: Supports all ArcGIS Raster Datasets
Help:
Has Raster Attribute Table: false
Edit Fields Info: null
Ownership Based AccessControl For Rasters: null
Child Resources:
Info
Histograms
Statistics
Key Properties
Legend
Raster Function Infos
Supported Operations:
Export Image
Identify
Measure
Compute Histograms
Compute Statistics Histograms
Get Samples
Compute Class Statistics
Query Boundary
Compute Pixel Location
Compute Angles
Validate
Project