View In:
ArcGIS JavaScript
ArcGIS Online Map Viewer
ArcGIS Earth
Service Description: 30-year (1971-2000) average August minimum temperature data created by the PRISM Climate Group, collected for USDA-
NRCS National Water and Climate Center by Geography, Portland State University
Name: BAGIS_Databin/PRISM_1971_2000_tmin_august
Description: 30-year (1971-2000) average August minimum temperature data created by the PRISM Climate Group, collected for USDA-
NRCS National Water and Climate Center by Geography, Portland State University
Single Fused Map Cache: false
Extent:
XMin: -2950369.1483604093
YMin: 114776.63526356686
XMax: 3000347.621502698
YMax: 3323037.95570218
Spatial Reference: 0
(0)
LatestVCSWkid(0)
Initial Extent:
XMin: -2950369.1483604093
YMin: 114776.63526356686
XMax: 3000347.621502698
YMax: 3323037.95570218
Spatial Reference: 0
(0)
LatestVCSWkid(0)
Full Extent:
XMin: -2950369.1483604093
YMin: 114776.63526356686
XMax: 3000347.621502698
YMax: 3323037.95570218
Spatial Reference: 0
(0)
LatestVCSWkid(0)
Pixel Size X: 935.353154646826
Pixel Size Y: 935.353154646826
Band Count: 1
Pixel Type: F32
RasterFunction Infos: {"rasterFunctionInfos": [{
"name": "None",
"description": "",
"help": ""
}]}
Mensuration Capabilities: Basic
Inspection Capabilities:
Has Histograms: true
Has Colormap: false
Has Multi Dimensions : false
Rendering Rule:
Min Scale: 0
Max Scale: 0
Copyright Text: Geography, Portland State University
Service Data Type: esriImageServiceDataTypeGeneric
Min Values: -11.480415344238281
Max Values: 28.201757431030273
Mean Values: 15.16996178289565
Standard Deviation Values: 4.735963333164953
Object ID Field:
Fields:
None
Default Mosaic Method: Center
Allowed Mosaic Methods:
SortField:
SortValue: null
Mosaic Operator: First
Default Compression Quality: 75
Default Resampling Method: Bilinear
Max Record Count: null
Max Image Height: 4100
Max Image Width: 15000
Max Download Image Count: null
Max Mosaic Image Count: null
Allow Raster Function: true
Allow Copy: true
Allow Analysis: true
Allow Compute TiePoints: false
Supports Statistics: false
Supports Advanced Queries: false
Use StandardizedQueries: true
Raster Type Infos:
Name: Raster Dataset
Description: Supports all ArcGIS Raster Datasets
Help:
Has Raster Attribute Table: false
Edit Fields Info: null
Ownership Based AccessControl For Rasters: null
Child Resources:
Info
Histograms
Statistics
Key Properties
Legend
Raster Function Infos
Supported Operations:
Export Image
Identify
Measure
Compute Histograms
Compute Statistics Histograms
Get Samples
Compute Class Statistics
Query Boundary
Compute Pixel Location
Compute Angles
Validate
Project