View In:
ArcGIS JavaScript
ArcGIS Online Map Viewer
ArcGIS Earth
Service Description: 2019 30-meter NLCD Land Cover. 0. Unclassified, 11. Open Water, 12. Perennial Snow/Ice, 21. Developed, Open Space, 22. Developed, Low Intensity, 23. Developed, Medium Intensity, 24. Developed, High Intensity, 31. Barren Land, 41. Deciduous Forest, 42. Evergreen Forest, 43. Mixed Forest, 52. Shrub/Scrub, 71. Herbaceous, 81. Hay/Pasture, 82. Cultivated Crops, 90. Woody Wetlands, 95. Emergent Herbaceous Wetlands
Name: BAGIS_Databin/NLCD_2019_land_cover
Description: 2019 30-meter NLCD Land Cover. 0. Unclassified, 11. Open Water, 12. Perennial Snow/Ice, 21. Developed, Open Space, 22. Developed, Low Intensity, 23. Developed, Medium Intensity, 24. Developed, High Intensity, 31. Barren Land, 41. Deciduous Forest, 42. Evergreen Forest, 43. Mixed Forest, 52. Shrub/Scrub, 71. Herbaceous, 81. Hay/Pasture, 82. Cultivated Crops, 90. Woody Wetlands, 95. Emergent Herbaceous Wetlands
Single Fused Map Cache: false
Extent:
XMin: -2493044.0537484596
YMin: 177284.06039976142
XMax: 2342655.9462515404
YMax: 3310004.0603997614
Spatial Reference: 0
(0)
LatestVCSWkid(0)
Initial Extent:
XMin: -2493044.0537484596
YMin: 177284.06039976142
XMax: 2342655.9462515404
YMax: 3310004.0603997614
Spatial Reference: 0
(0)
LatestVCSWkid(0)
Full Extent:
XMin: -2493044.0537484596
YMin: 177284.06039976142
XMax: 2342655.9462515404
YMax: 3310004.0603997614
Spatial Reference: 0
(0)
LatestVCSWkid(0)
Pixel Size X: 30.0
Pixel Size Y: 30.0
Band Count: 1
Pixel Type: U8
RasterFunction Infos: {"rasterFunctionInfos": [{
"name": "None",
"description": "",
"help": ""
}]}
Mensuration Capabilities: Basic
Inspection Capabilities:
Has Histograms: true
Has Colormap: false
Has Multi Dimensions : false
Rendering Rule:
Min Scale: 0
Max Scale: 0
Copyright Text: Geography, Portland State University
Service Data Type: esriImageServiceDataTypeThematic
Min Values: 0
Max Values: 95
Mean Values: 57.01604942390906
Standard Deviation Values: 22.0588477865247
Object ID Field:
Fields:
None
Default Mosaic Method: Center
Allowed Mosaic Methods:
SortField:
SortValue: null
Mosaic Operator: First
Default Compression Quality: 75
Default Resampling Method: Nearest
Max Record Count: null
Max Image Height: 41000
Max Image Width: 38000
Max Download Image Count: null
Max Mosaic Image Count: null
Allow Raster Function: true
Allow Copy: true
Allow Analysis: true
Allow Compute TiePoints: false
Supports Statistics: false
Supports Advanced Queries: false
Use StandardizedQueries: true
Raster Type Infos:
Name: Raster Dataset
Description: Supports all ArcGIS Raster Datasets
Help:
Has Raster Attribute Table: true
Edit Fields Info: null
Ownership Based AccessControl For Rasters: null
Child Resources:
Info
Raster Attribute Table
Histograms
Statistics
Key Properties
Legend
Raster Function Infos
Supported Operations:
Export Image
Identify
Measure
Compute Histograms
Compute Statistics Histograms
Get Samples
Compute Class Statistics
Query Boundary
Compute Pixel Location
Compute Angles
Validate
Project