{
 "currentVersion": 11.4,
 "serviceDescription": "500-meter Statsgo integer soil texture class compiled for BAGIS-P",
 "name": "BAGIS_Databin/STATSGO_BAGIS_texture",
 "description": "500-meter Statsgo integer soil texture class compiled for BAGIS-P",
 "extent": {
  "xmin": -2356161.762700001,
  "ymin": 277091.0473999996,
  "xmax": 2258338.237299999,
  "ymax": 3172591.0473999996,
  "spatialReference": {
   "wkid": 102039,
   "latestWkid": 102039
  }
 },
 "initialExtent": {
  "xmin": -2356161.762700001,
  "ymin": 277091.0473999996,
  "xmax": 2258338.237299999,
  "ymax": 3172591.0473999996,
  "spatialReference": {
   "wkid": 102039,
   "latestWkid": 102039
  }
 },
 "fullExtent": {
  "xmin": -2356161.762700001,
  "ymin": 277091.0473999996,
  "xmax": 2258338.237299999,
  "ymax": 3172591.0473999996,
  "spatialReference": {
   "wkid": 102039,
   "latestWkid": 102039
  }
 },
 "sortableFields": "",
 "bandCount": 1,
 "pixelType": "U8",
 "minValues": [
  0
 ],
 "maxValues": [
  5
 ],
 "meanValues": [
  1.9973713791286036
 ],
 "stdvValues": [
  0.538467816620151
 ],
 "hasMultidimensions": false,
 "pixelSizeX": 500,
 "pixelSizeY": 500,
 "meanPixelSize": 500,
 "datasetFormat": "FGDBR",
 "uncompressedSize": 53445139,
 "blockWidth": 128,
 "blockHeight": 128,
 "compressionType": "LZ77",
 "bandNames": [
  "Band_1"
 ],
 "allowCopy": true,
 "allowAnalysis": true,
 "itemAccess": false,
 "inspectionCapabilities": "",
 "minPixelSize": 0,
 "maxPixelSize": 0,
 "copyrightText": "Geography, Portland State University",
 "serviceDataType": "esriImageServiceDataTypeGeneric",
 "serviceSourceType": "esriImageServiceSourceTypeDataset",
 "objectIdField": "",
 "fields": [],
 "capabilities": "Image,Metadata,Mensuration",
 "defaultMosaicMethod": "Center",
 "allowedMosaicMethods": "",
 "sortField": "",
 "sortValue": null,
 "sortAscending": true,
 "mosaicOperator": "First",
 "defaultCompressionQuality": 75,
 "defaultResamplingMethod": "Bilinear",
 "maxImageHeight": 4100,
 "maxImageWidth": 15000,
 "allowRasterFunction": true,
 "rasterFunctionInfos": [
  {
   "name": "None",
   "description": "",
   "help": ""
  }
 ],
 "rasterTypeInfos": [
  {
   "name": "Raster Dataset",
   "description": "Supports all ArcGIS Raster Datasets",
   "help": ""
  }
 ],
 "mensurationCapabilities": "Basic",
 "hasHistograms": true,
 "hasColormap": false,
 "hasRasterAttributeTable": true,
 "minScale": 0,
 "maxScale": 0,
 "exportTilesAllowed": false,
 "supportsStatistics": false,
 "supportsAdvancedQueries": false,
 "editFieldsInfo": null,
 "ownershipBasedAccessControlForRasters": null,
 "allowComputeTiePoints": false,
 "useStandardizedQueries": true,
 "advancedQueryCapabilities": {
  "useStandardizedQueries": true,
  "supportsStatistics": false,
  "supportsOrderBy": false,
  "supportsDistinct": false,
  "supportsPagination": false
 },
 "spatialReference": {
  "wkid": 102039,
  "latestWkid": 102039
 }
}
